BEGIN:VCALENDAR
VERSION:2.0
PRODID:-//eventon.com NONSGML v1.0//EN
CALSCALE:GREGORIAN
METHOD:PUBLISH
BEGIN:VEVENT
UID:69e4f35ebe659
DTSTAMP:20260419T152310Z
DTSTART:20250905T170000Z
DTEND:20250906T230000Z
LOCATION:
SUMMARY:Jolly Brewmaster Cider Festival
DESCRIPTION:The Jolly Brewmaster are holding a cider festival Friday 5th an
 d Saturday 6th September\nhttps://cheltenham.camra.org.uk/events/jolly-brew
 -cider25/
URL:https://cheltenham.camra.org.uk/events/jolly-brew-cider25/
END:VEVENT
END:VCALENDAR