BEGIN:VCALENDAR
VERSION:2.0
PRODID:-//eventon.com NONSGML v1.0//EN
CALSCALE:GREGORIAN
METHOD:PUBLISH
BEGIN:VEVENT
UID:69e637a7b0e0f
DTSTAMP:20260420T142647Z
DTSTART:20260530T105900Z
DTEND:20260530T200000Z
LOCATION:
SUMMARY:Ale Amble to Tamworth
DESCRIPTION:We are going to the town of Tamworth on 30th May. We shall\,  a
 s usual\,  be visiting a few pubs including the wonderful Tamworth Tap. We 
 will be getting the 10.59 train out from Cheltenham\,  returning on the 18.
 49. The first pub will be the Sheriff of Tamworth. &nbsp;\nhttps://cheltenh
 am.camra.org.uk/events/ale-amble-to-tamworth/
URL:https://cheltenham.camra.org.uk/events/ale-amble-to-tamworth/
END:VEVENT
END:VCALENDAR